BEGIN:VCALENDAR
VERSION:2.0
PRODID:-//David Galeuchet  - ECPv6.15.15//NONSGML v1.0//EN
CALSCALE:GREGORIAN
METHOD:PUBLISH
X-WR-CALNAME:David Galeuchet 
X-ORIGINAL-URL:https://galeuchet.ch
X-WR-CALDESC:Veranstaltungen für David Galeuchet 
REFRESH-INTERVAL;VALUE=DURATION:PT1H
X-Robots-Tag:noindex
X-PUBLISHED-TTL:PT1H
BEGIN:VTIMEZONE
TZID:Europe/Zurich
BEGIN:DAYLIGHT
TZOFFSETFROM:+0100
TZOFFSETTO:+0200
TZNAME:CEST
DTSTART:20220327T010000
END:DAYLIGHT
BEGIN:STANDARD
TZOFFSETFROM:+0200
TZOFFSETTO:+0100
TZNAME:CET
DTSTART:20221030T010000
END:STANDARD
BEGIN:DAYLIGHT
TZOFFSETFROM:+0100
TZOFFSETTO:+0200
TZNAME:CEST
DTSTART:20230326T010000
END:DAYLIGHT
BEGIN:STANDARD
TZOFFSETFROM:+0200
TZOFFSETTO:+0100
TZNAME:CET
DTSTART:20231029T010000
END:STANDARD
BEGIN:DAYLIGHT
TZOFFSETFROM:+0100
TZOFFSETTO:+0200
TZNAME:CEST
DTSTART:20240331T010000
END:DAYLIGHT
BEGIN:STANDARD
TZOFFSETFROM:+0200
TZOFFSETTO:+0100
TZNAME:CET
DTSTART:20241027T010000
END:STANDARD
END:VTIMEZONE
BEGIN:VEVENT
DTSTART;TZID=Europe/Zurich:20231022T160000
DTEND;TZID=Europe/Zurich:20231022T220000
DTSTAMP:20260424T120217
CREATED:20231010T101131Z
LAST-MODIFIED:20231010T101131Z
UID:2125-1697990400-1698012000@galeuchet.ch
SUMMARY:Wahlfest Grüne Kanton Zürich
DESCRIPTION:
URL:https://galeuchet.ch/event/wahlfest-gruene-kanton-zuerich
LOCATION:Photobastei\, Sihlquai 125\, Zürich\, Zürich\, 8005\, Schweiz
END:VEVENT
END:VCALENDAR