BEGIN:VCALENDAR
VERSION:2.0
PRODID:-//David Galeuchet  - ECPv6.15.15//NONSGML v1.0//EN
CALSCALE:GREGORIAN
METHOD:PUBLISH
X-WR-CALNAME:David Galeuchet 
X-ORIGINAL-URL:https://galeuchet.ch
X-WR-CALDESC:Veranstaltungen für David Galeuchet 
REFRESH-INTERVAL;VALUE=DURATION:PT1H
X-Robots-Tag:noindex
X-PUBLISHED-TTL:PT1H
BEGIN:VTIMEZONE
TZID:Europe/Zurich
BEGIN:DAYLIGHT
TZOFFSETFROM:+0100
TZOFFSETTO:+0200
TZNAME:CEST
DTSTART:20210328T010000
END:DAYLIGHT
BEGIN:STANDARD
TZOFFSETFROM:+0200
TZOFFSETTO:+0100
TZNAME:CET
DTSTART:20211031T010000
END:STANDARD
BEGIN:DAYLIGHT
TZOFFSETFROM:+0100
TZOFFSETTO:+0200
TZNAME:CEST
DTSTART:20220327T010000
END:DAYLIGHT
BEGIN:STANDARD
TZOFFSETFROM:+0200
TZOFFSETTO:+0100
TZNAME:CET
DTSTART:20221030T010000
END:STANDARD
BEGIN:DAYLIGHT
TZOFFSETFROM:+0100
TZOFFSETTO:+0200
TZNAME:CEST
DTSTART:20230326T010000
END:DAYLIGHT
BEGIN:STANDARD
TZOFFSETFROM:+0200
TZOFFSETTO:+0100
TZNAME:CET
DTSTART:20231029T010000
END:STANDARD
END:VTIMEZONE
BEGIN:VEVENT
DTSTART;TZID=Europe/Zurich:20221104T203000
DTEND;TZID=Europe/Zurich:20221104T230000
DTSTAMP:20260424T161715
CREATED:20221012T040403Z
LAST-MODIFIED:20230802T184927Z
UID:1282-1667593800-1667602800@galeuchet.ch
SUMMARY:Kommen wir mit der Energie durch diesen Winter?
DESCRIPTION:
URL:https://galeuchet.ch/event/kommen-wir-mit-der-energie-durch-diesen-winter
CATEGORIES:Podium
ATTACH;FMTTYPE=image/png:https://galeuchet.ch/wp-content/uploads/sites/11/2022/10/Bildschirmfoto-2022-10-09-um-11.43.51.png
END:VEVENT
END:VCALENDAR